BEGIN:VCALENDAR
VERSION:2.0
PRODID:-// - ECPv5.14.1//NONSGML v1.0//EN
CALSCALE:GREGORIAN
METHOD:PUBLISH
X-ORIGINAL-URL:https://stmaryssc.com
X-WR-CALDESC:Events for 
REFRESH-INTERVAL;VALUE=DURATION:PT1H
X-Robots-Tag:noindex
X-PUBLISHED-TTL:PT1H
BEGIN:VTIMEZONE
TZID:Australia/Melbourne
BEGIN:STANDARD
TZOFFSETFROM:+1100
TZOFFSETTO:+1000
TZNAME:AEST
DTSTART:20230401T160000
END:STANDARD
BEGIN:DAYLIGHT
TZOFFSETFROM:+1000
TZOFFSETTO:+1100
TZNAME:AEDT
DTSTART:20230930T160000
END:DAYLIGHT
END:VTIMEZONE
BEGIN:VEVENT
DTSTART;TZID=Australia/Melbourne:20230224T163000
DTEND;TZID=Australia/Melbourne:20230224T193000
DTSTAMP:20260422T035637
CREATED:20230103T095542Z
LAST-MODIFIED:20230222T205530Z
UID:19350-1677256200-1677267000@stmaryssc.com
SUMMARY:Club Membership Day 2023
DESCRIPTION:Our Club Membership Day for 2023 will be on Friday February 23rd from 4.30pm at the clubrooms. \nNew and existing members are welcome to come along and meet the coaches/co-ordinators\, discuss the junior programs and meet other club people. \nClub Memberships are all online and we will have laptops /ipads available for those requiring assistance. \nOur new season of club clothing will also be available to try on for size and there will be playing/training gear available to purchase on the day.
URL:https://stmaryssc.com/club-event/club-membership-day-2023/
LOCATION:Clubroom – Main room\, Kardinia Park (West Oval)\, Kilgour Street\, South Geelong\, Vic\, 3220\, Australia
CATEGORIES:Club Meetings
END:VEVENT
END:VCALENDAR